BEGIN:VCALENDAR
VERSION:2.0
PRODID:-//First Presbyterian Church - ECPv6.15.20//NONSGML v1.0//EN
CALSCALE:GREGORIAN
METHOD:PUBLISH
X-ORIGINAL-URL:https://firstpresbyterian.net
X-WR-CALDESC:Events for First Presbyterian Church
REFRESH-INTERVAL;VALUE=DURATION:PT1H
X-Robots-Tag:noindex
X-PUBLISHED-TTL:PT1H
BEGIN:VTIMEZONE
TZID:-04:00
END:VTIMEZONE
BEGIN:VEVENT
DTSTART;TZID=-04:00:20260603T070000
DTEND;TZID=-04:00:20260603T070000
DTSTAMP:20260422T050601
CREATED:20260419T063922Z
LAST-MODIFIED:20260422T083635Z
UID:10002001-1780470000-1780470000@firstpresbyterian.net
SUMMARY:Men's AM Group
DESCRIPTION:Wednesday mornings men’s small group meeting in the Good Room (112-114)
URL:https://firstpresbyterian.net/event/mens-am-group-9/
ATTACH;FMTTYPE=image/jpeg:https://firstpresbyterian.net/wp-content/uploads/cp-sync/events/mens-am-group-16293-e8dd55004740db77cac5472155239867.jpg
END:VEVENT
BEGIN:VEVENT
DTSTART;TZID=-04:00:20260603T190000
DTEND;TZID=-04:00:20260603T190000
DTSTAMP:20260422T050601
CREATED:20260419T063924Z
LAST-MODIFIED:20260422T083637Z
UID:10002002-1780513200-1780513200@firstpresbyterian.net
SUMMARY:Al-anon
DESCRIPTION:
URL:https://firstpresbyterian.net/event/al-anon-9/
LOCATION:21 Firelands Blvd.\, 21 Firelands Blvd.\, Norwalk\, Ohio 44857\, Norwalk\, 44857
ATTACH;FMTTYPE=image/jpeg:https://firstpresbyterian.net/wp-content/uploads/cp-sync/events/al-anon-16295-47f89e709cea67c1546cd620f52e27d0.jpg
END:VEVENT
BEGIN:VEVENT
DTSTART;TZID=-04:00:20260604T100000
DTEND;TZID=-04:00:20260604T100000
DTSTAMP:20260422T050601
CREATED:20260420T063905Z
LAST-MODIFIED:20260422T083638Z
UID:10002003-1780567200-1780567200@firstpresbyterian.net
SUMMARY:PW Morning & Afternoon Circle Together
DESCRIPTION:
URL:https://firstpresbyterian.net/event/pw-morning-afternoon-circle-together-2/
END:VEVENT
BEGIN:VEVENT
DTSTART;TZID=-04:00:20260604T173000
DTEND;TZID=-04:00:20260604T173000
DTSTAMP:20260422T050601
CREATED:20260420T063908Z
LAST-MODIFIED:20260422T083640Z
UID:10002004-1780594200-1780594200@firstpresbyterian.net
SUMMARY:Impact Committee
DESCRIPTION:
URL:https://firstpresbyterian.net/event/impact-committee-3/
LOCATION:21 Firelands Blvd.\, 21 Firelands Blvd.\, Norwalk\, Ohio 44857\, Norwalk\, 44857
END:VEVENT
BEGIN:VEVENT
DTSTART;TZID=-04:00:20260604T173000
DTEND;TZID=-04:00:20260604T173000
DTSTAMP:20260422T050601
CREATED:20260420T063910Z
LAST-MODIFIED:20260422T083641Z
UID:10002005-1780594200-1780594200@firstpresbyterian.net
SUMMARY:Mission Committee Meeting
DESCRIPTION:
URL:https://firstpresbyterian.net/event/mission-committee-meeting-2/
END:VEVENT
BEGIN:VEVENT
DTSTART;TZID=-04:00:20260605T100000
DTEND;TZID=-04:00:20260605T100000
DTSTAMP:20260422T050601
CREATED:20260421T063906Z
LAST-MODIFIED:20260422T083643Z
UID:10002007-1780653600-1780653600@firstpresbyterian.net
SUMMARY:AA Meeting
DESCRIPTION:
URL:https://firstpresbyterian.net/event/aa-meeting-29/
ATTACH;FMTTYPE=image/jpeg:https://firstpresbyterian.net/wp-content/uploads/cp-sync/events/aa-meeting-16301-a2bb9015337db922901fe1772a11dc18.jpg
END:VEVENT
BEGIN:VEVENT
DTSTART;TZID=-04:00:20260605T130000
DTEND;TZID=-04:00:20260605T130000
DTSTAMP:20260422T050601
CREATED:20260421T063908Z
LAST-MODIFIED:20260422T083644Z
UID:10002008-1780664400-1780664400@firstpresbyterian.net
SUMMARY:Keen-Agers
DESCRIPTION:
URL:https://firstpresbyterian.net/event/keen-agers/
END:VEVENT
BEGIN:VEVENT
DTSTART;TZID=-04:00:20260605T190000
DTEND;TZID=-04:00:20260605T190000
DTSTAMP:20260422T050601
CREATED:20260421T063909Z
LAST-MODIFIED:20260422T083646Z
UID:10002009-1780686000-1780686000@firstpresbyterian.net
SUMMARY:AA Meeting
DESCRIPTION:
URL:https://firstpresbyterian.net/event/aa-meeting-33/
ATTACH;FMTTYPE=image/jpeg:https://firstpresbyterian.net/wp-content/uploads/cp-sync/events/aa-meeting-16304-96c65fb31b9ed34613a63dc59fdf31cf.jpg
END:VEVENT
BEGIN:VEVENT
DTSTART;TZID=-04:00:20260606T190000
DTEND;TZID=-04:00:20260606T190000
DTSTAMP:20260422T050601
CREATED:20260422T063832Z
LAST-MODIFIED:20260422T063834Z
UID:10002011-1780772400-1780772400@firstpresbyterian.net
SUMMARY:AA Meeting
DESCRIPTION:
URL:https://firstpresbyterian.net/event/aa-meeting-34/
ATTACH;FMTTYPE=image/jpeg:https://firstpresbyterian.net/wp-content/uploads/cp-sync/events/aa-meeting-16307-c07722eb990af9031d7c3260a4c4a8c8.jpg
END:VEVENT
BEGIN:VEVENT
DTSTART;TZID=-04:00:20260606T190000
DTEND;TZID=-04:00:20260606T190000
DTSTAMP:20260422T050601
CREATED:20260422T063834Z
LAST-MODIFIED:20260422T083647Z
UID:10002012-1780772400-1780772400@firstpresbyterian.net
SUMMARY:AA Meeting
DESCRIPTION:
URL:https://firstpresbyterian.net/event/aa-meeting-36/
ATTACH;FMTTYPE=image/jpeg:https://firstpresbyterian.net/wp-content/uploads/cp-sync/events/aa-meeting-16309-c07722eb990af9031d7c3260a4c4a8c8.jpg
END:VEVENT
END:VCALENDAR