BEGIN:VCALENDAR
VERSION:2.0
PRODID:-//First Presbyterian Church - ECPv6.15.20//NONSGML v1.0//EN
CALSCALE:GREGORIAN
METHOD:PUBLISH
X-WR-CALNAME:First Presbyterian Church
X-ORIGINAL-URL:https://firstpresbyterian.net
X-WR-CALDESC:Events for First Presbyterian Church
REFRESH-INTERVAL;VALUE=DURATION:PT1H
X-Robots-Tag:noindex
X-PUBLISHED-TTL:PT1H
BEGIN:VTIMEZONE
TZID:-04:00
END:VTIMEZONE
BEGIN:VEVENT
DTSTART;TZID=-04:00:20260527T070000
DTEND;TZID=-04:00:20260527T070000
DTSTAMP:20260420T102312
CREATED:20260412T063932Z
LAST-MODIFIED:20260412T063933Z
UID:10001969-1779865200-1779865200@firstpresbyterian.net
SUMMARY:Men's AM Group
DESCRIPTION:Wednesday mornings men’s small group meeting in the Good Room (112-114)
URL:https://firstpresbyterian.net/event/mens-am-group-16/
ATTACH;FMTTYPE=image/jpeg:https://firstpresbyterian.net/wp-content/uploads/cp-sync/events/mens-am-group-16217-e8f497a3ba32c538dae6fb3760df2577.jpg
END:VEVENT
BEGIN:VEVENT
DTSTART;TZID=-04:00:20260527T070000
DTEND;TZID=-04:00:20260527T070000
DTSTAMP:20260420T102312
CREATED:20260412T063932Z
LAST-MODIFIED:20260412T063933Z
UID:10001970-1779865200-1779865200@firstpresbyterian.net
SUMMARY:Men's AM Group
DESCRIPTION:Wednesday mornings men’s small group meeting in the Good Room (112-114)
URL:https://firstpresbyterian.net/event/mens-am-group-6/
ATTACH;FMTTYPE=image/jpeg:https://firstpresbyterian.net/wp-content/uploads/cp-sync/events/mens-am-group-16216-e8f497a3ba32c538dae6fb3760df2577.jpg
END:VEVENT
BEGIN:VEVENT
DTSTART;TZID=-04:00:20260527T070000
DTEND;TZID=-04:00:20260527T070000
DTSTAMP:20260420T102312
CREATED:20260412T063934Z
LAST-MODIFIED:20260420T133644Z
UID:10001972-1779865200-1779865200@firstpresbyterian.net
SUMMARY:Men's AM Group
DESCRIPTION:Wednesday mornings men’s small group meeting in the Good Room (112-114)
URL:https://firstpresbyterian.net/event/mens-am-group-17/
ATTACH;FMTTYPE=image/jpeg:https://firstpresbyterian.net/wp-content/uploads/cp-sync/events/mens-am-group-16222-e8f497a3ba32c538dae6fb3760df2577.jpg
END:VEVENT
BEGIN:VEVENT
DTSTART;TZID=-04:00:20260527T120000
DTEND;TZID=-04:00:20260527T120000
DTSTAMP:20260420T102312
CREATED:20260412T063934Z
LAST-MODIFIED:20260420T133646Z
UID:10001971-1779883200-1779883200@firstpresbyterian.net
SUMMARY:LYN Luncheon
DESCRIPTION:
URL:https://firstpresbyterian.net/event/lyn-luncheon/
ATTACH;FMTTYPE=image/jpeg:https://firstpresbyterian.net/wp-content/uploads/cp-sync/events/lyn-luncheon-16220-48c38e8c3305bc7606bf5c9b8ad45556.jpg
END:VEVENT
BEGIN:VEVENT
DTSTART;TZID=-04:00:20260527T120000
DTEND;TZID=-04:00:20260527T120000
DTSTAMP:20260420T102312
CREATED:20260412T063934Z
LAST-MODIFIED:20260412T063934Z
UID:10001975-1779883200-1779883200@firstpresbyterian.net
SUMMARY:LYN Luncheon
DESCRIPTION:
URL:https://firstpresbyterian.net/event/lyn-luncheon-5/
END:VEVENT
BEGIN:VEVENT
DTSTART;TZID=-04:00:20260527T190000
DTEND;TZID=-04:00:20260527T190000
DTSTAMP:20260420T102312
CREATED:20260412T063935Z
LAST-MODIFIED:20260412T063937Z
UID:10001973-1779908400-1779908400@firstpresbyterian.net
SUMMARY:Al-anon
DESCRIPTION:
URL:https://firstpresbyterian.net/event/al-anon-6/
LOCATION:21 Firelands Blvd.\, 21 Firelands Blvd.\, Norwalk\, Ohio 44857\, Norwalk\, 44857
ATTACH;FMTTYPE=image/jpeg:https://firstpresbyterian.net/wp-content/uploads/cp-sync/events/al-anon-16224-d3970dfd288edcefc4e65dddc6a28180.jpg
END:VEVENT
BEGIN:VEVENT
DTSTART;TZID=-04:00:20260527T190000
DTEND;TZID=-04:00:20260527T190000
DTSTAMP:20260420T102312
CREATED:20260412T063936Z
LAST-MODIFIED:20260412T063937Z
UID:10001974-1779908400-1779908400@firstpresbyterian.net
SUMMARY:Al-anon
DESCRIPTION:
URL:https://firstpresbyterian.net/event/al-anon-17/
LOCATION:21 Firelands Blvd.\, 21 Firelands Blvd.\, Norwalk\, Ohio 44857\, Norwalk\, 44857
ATTACH;FMTTYPE=image/jpeg:https://firstpresbyterian.net/wp-content/uploads/cp-sync/events/al-anon-16225-d3970dfd288edcefc4e65dddc6a28180.jpg
END:VEVENT
BEGIN:VEVENT
DTSTART;TZID=-04:00:20260527T190000
DTEND;TZID=-04:00:20260527T190000
DTSTAMP:20260420T102312
CREATED:20260412T063939Z
LAST-MODIFIED:20260420T133647Z
UID:10001976-1779908400-1779908400@firstpresbyterian.net
SUMMARY:Al-anon
DESCRIPTION:
URL:https://firstpresbyterian.net/event/al-anon-18/
LOCATION:21 Firelands Blvd.\, 21 Firelands Blvd.\, Norwalk\, Ohio 44857\, Norwalk\, 44857
ATTACH;FMTTYPE=image/jpeg:https://firstpresbyterian.net/wp-content/uploads/cp-sync/events/al-anon-16229-d3970dfd288edcefc4e65dddc6a28180.jpg
END:VEVENT
BEGIN:VEVENT
DTSTART;TZID=-04:00:20260528T183000
DTEND;TZID=-04:00:20260528T183000
DTSTAMP:20260420T102312
CREATED:20260413T063956Z
LAST-MODIFIED:20260420T133648Z
UID:10001977-1779993000-1779993000@firstpresbyterian.net
SUMMARY:Session Meeting
DESCRIPTION:
URL:https://firstpresbyterian.net/event/session-meeting/
LOCATION:21 Firelands Blvd.\, 21 Firelands Blvd.\, Norwalk\, Ohio 44857\, Norwalk\, 44857
ATTACH;FMTTYPE=image/jpeg:https://firstpresbyterian.net/wp-content/uploads/cp-sync/events/session-meeting-16231-624593b42efb2e4e3edd618adb67ae00.jpg
END:VEVENT
BEGIN:VEVENT
DTSTART;TZID=-04:00:20260529T100000
DTEND;TZID=-04:00:20260529T100000
DTSTAMP:20260420T102312
CREATED:20260414T063857Z
LAST-MODIFIED:20260414T063859Z
UID:10001978-1780048800-1780048800@firstpresbyterian.net
SUMMARY:AA Meeting
DESCRIPTION:
URL:https://firstpresbyterian.net/event/aa-meeting-24/
ATTACH;FMTTYPE=image/jpeg:https://firstpresbyterian.net/wp-content/uploads/cp-sync/events/aa-meeting-16233-b44ffa455f57b0a0760a7b9730ad0010.jpg
END:VEVENT
BEGIN:VEVENT
DTSTART;TZID=-04:00:20260529T100000
DTEND;TZID=-04:00:20260529T100000
DTSTAMP:20260420T102312
CREATED:20260414T063900Z
LAST-MODIFIED:20260414T063901Z
UID:10001980-1780048800-1780048800@firstpresbyterian.net
SUMMARY:AA Meeting
DESCRIPTION:
URL:https://firstpresbyterian.net/event/aa-meeting-60/
ATTACH;FMTTYPE=image/jpeg:https://firstpresbyterian.net/wp-content/uploads/cp-sync/events/aa-meeting-16235-b44ffa455f57b0a0760a7b9730ad0010.jpg
END:VEVENT
BEGIN:VEVENT
DTSTART;TZID=-04:00:20260529T100000
DTEND;TZID=-04:00:20260529T100000
DTSTAMP:20260420T102312
CREATED:20260414T063902Z
LAST-MODIFIED:20260420T133650Z
UID:10001981-1780048800-1780048800@firstpresbyterian.net
SUMMARY:AA Meeting
DESCRIPTION:
URL:https://firstpresbyterian.net/event/aa-meeting-62/
ATTACH;FMTTYPE=image/jpeg:https://firstpresbyterian.net/wp-content/uploads/cp-sync/events/aa-meeting-16239-b44ffa455f57b0a0760a7b9730ad0010.jpg
END:VEVENT
BEGIN:VEVENT
DTSTART;TZID=-04:00:20260529T190000
DTEND;TZID=-04:00:20260529T190000
DTSTAMP:20260420T102312
CREATED:20260414T063900Z
LAST-MODIFIED:20260414T063901Z
UID:10001979-1780081200-1780081200@firstpresbyterian.net
SUMMARY:AA Meeting
DESCRIPTION:
URL:https://firstpresbyterian.net/event/aa-meeting-61/
ATTACH;FMTTYPE=image/jpeg:https://firstpresbyterian.net/wp-content/uploads/cp-sync/events/aa-meeting-16236-d426fb1fbf141ea625a1ec021453f12f.jpg
END:VEVENT
BEGIN:VEVENT
DTSTART;TZID=-04:00:20260529T190000
DTEND;TZID=-04:00:20260529T190000
DTSTAMP:20260420T102312
CREATED:20260414T063902Z
LAST-MODIFIED:20260420T133651Z
UID:10001982-1780081200-1780081200@firstpresbyterian.net
SUMMARY:AA Meeting
DESCRIPTION:
URL:https://firstpresbyterian.net/event/aa-meeting-63/
ATTACH;FMTTYPE=image/jpeg:https://firstpresbyterian.net/wp-content/uploads/cp-sync/events/aa-meeting-16240-d426fb1fbf141ea625a1ec021453f12f.jpg
END:VEVENT
BEGIN:VEVENT
DTSTART;TZID=-04:00:20260530T190000
DTEND;TZID=-04:00:20260530T190000
DTSTAMP:20260420T102312
CREATED:20260415T064044Z
LAST-MODIFIED:20260415T064046Z
UID:10001988-1780167600-1780167600@firstpresbyterian.net
SUMMARY:AA Meeting
DESCRIPTION:
URL:https://firstpresbyterian.net/event/aa-meeting-26/
ATTACH;FMTTYPE=image/jpeg:https://firstpresbyterian.net/wp-content/uploads/cp-sync/events/aa-meeting-16254-ed01951798dc9b7a443e857acae5a9a6.jpg
END:VEVENT
BEGIN:VEVENT
DTSTART;TZID=-04:00:20260530T190000
DTEND;TZID=-04:00:20260530T190000
DTSTAMP:20260420T102312
CREATED:20260415T064046Z
LAST-MODIFIED:20260420T133653Z
UID:10001989-1780167600-1780167600@firstpresbyterian.net
SUMMARY:AA Meeting
DESCRIPTION:
URL:https://firstpresbyterian.net/event/aa-meeting-64/
ATTACH;FMTTYPE=image/jpeg:https://firstpresbyterian.net/wp-content/uploads/cp-sync/events/aa-meeting-16255-ed01951798dc9b7a443e857acae5a9a6.jpg
END:VEVENT
BEGIN:VEVENT
DTSTART;TZID=-04:00:20260531T000000
DTEND;TZID=-04:00:20260531T000000
DTSTAMP:20260420T102312
CREATED:20260416T064032Z
LAST-MODIFIED:20260420T133654Z
UID:10001992-1780185600-1780185600@firstpresbyterian.net
SUMMARY:Internet Worship Service
DESCRIPTION:
URL:https://firstpresbyterian.net/event/internet-worship-service-6/
ATTACH;FMTTYPE=image/jpeg:https://firstpresbyterian.net/wp-content/uploads/cp-sync/events/internet-worship-service-16277-1b464f41b9124bf56cf6f3753b137ea6.jpg
END:VEVENT
BEGIN:VEVENT
DTSTART;TZID=-04:00:20260531T093000
DTEND;TZID=-04:00:20260531T093000
DTSTAMP:20260420T102312
CREATED:20260416T064034Z
LAST-MODIFIED:20260420T133657Z
UID:10001993-1780219800-1780219800@firstpresbyterian.net
SUMMARY:Worship Service
DESCRIPTION:
URL:https://firstpresbyterian.net/event/worship-service-11/
END:VEVENT
BEGIN:VEVENT
DTSTART;TZID=-04:00:20260531T163000
DTEND;TZID=-04:00:20260531T163000
DTSTAMP:20260420T102312
CREATED:20260416T064036Z
LAST-MODIFIED:20260420T133659Z
UID:10001994-1780245000-1780245000@firstpresbyterian.net
SUMMARY:Novel Ideas Book Club
DESCRIPTION:
URL:https://firstpresbyterian.net/event/novel-ideas-book-club/
END:VEVENT
BEGIN:VEVENT
DTSTART;TZID=-04:00:20260601T173000
DTEND;TZID=-04:00:20260601T173000
DTSTAMP:20260420T102312
CREATED:20260417T063927Z
LAST-MODIFIED:20260420T133701Z
UID:10001997-1780335000-1780335000@firstpresbyterian.net
SUMMARY:Worship Committee
DESCRIPTION:
URL:https://firstpresbyterian.net/event/worship-committee-2/
LOCATION:21 Firelands Blvd.\, 21 Firelands Blvd.\, Norwalk\, Ohio 44857\, Norwalk\, 44857
ATTACH;FMTTYPE=image/jpeg:https://firstpresbyterian.net/wp-content/uploads/cp-sync/events/worship-committee-16285-a09f6e563048b1fa6628d05a57313874.jpg
END:VEVENT
BEGIN:VEVENT
DTSTART;TZID=-04:00:20260602T100000
DTEND;TZID=-04:00:20260602T100000
DTSTAMP:20260420T102312
CREATED:20260418T063829Z
LAST-MODIFIED:20260420T133703Z
UID:10001998-1780394400-1780394400@firstpresbyterian.net
SUMMARY:AA Meeting
DESCRIPTION:
URL:https://firstpresbyterian.net/event/aa-meeting-5/
ATTACH;FMTTYPE=image/jpeg:https://firstpresbyterian.net/wp-content/uploads/cp-sync/events/aa-meeting-16287-5a6aabc9e2f545abf23a26236b0dedc3.jpg
END:VEVENT
BEGIN:VEVENT
DTSTART;TZID=-04:00:20260602T173000
DTEND;TZID=-04:00:20260602T173000
DTSTAMP:20260420T102312
CREATED:20260418T063832Z
LAST-MODIFIED:20260420T133705Z
UID:10001999-1780421400-1780421400@firstpresbyterian.net
SUMMARY:CE Meeting
DESCRIPTION:
URL:https://firstpresbyterian.net/event/ce-meeting/
LOCATION:21 Firelands Blvd.\, 21 Firelands Blvd.\, Norwalk\, Ohio 44857\, Norwalk\, 44857
ATTACH;FMTTYPE=image/jpeg:https://firstpresbyterian.net/wp-content/uploads/cp-sync/events/ce-meeting-16289-f1ceaf895ae72815d1b7deb38db3a987.jpg
END:VEVENT
BEGIN:VEVENT
DTSTART;TZID=-04:00:20260602T183000
DTEND;TZID=-04:00:20260602T183000
DTSTAMP:20260420T102312
CREATED:20260418T063835Z
LAST-MODIFIED:20260420T133706Z
UID:10002000-1780425000-1780425000@firstpresbyterian.net
SUMMARY:Young Adult Small Group
DESCRIPTION:
URL:https://firstpresbyterian.net/event/young-adult-small-group-2/
ATTACH;FMTTYPE=image/jpeg:https://firstpresbyterian.net/wp-content/uploads/cp-sync/events/young-adult-small-group-16291-ae3f480c20d77a77bd94e4ed6e79c8ff.jpg
END:VEVENT
BEGIN:VEVENT
DTSTART;TZID=-04:00:20260603T070000
DTEND;TZID=-04:00:20260603T070000
DTSTAMP:20260420T102312
CREATED:20260419T063922Z
LAST-MODIFIED:20260420T133708Z
UID:10002001-1780470000-1780470000@firstpresbyterian.net
SUMMARY:Men's AM Group
DESCRIPTION:Wednesday mornings men’s small group meeting in the Good Room (112-114)
URL:https://firstpresbyterian.net/event/mens-am-group-9/
ATTACH;FMTTYPE=image/jpeg:https://firstpresbyterian.net/wp-content/uploads/cp-sync/events/mens-am-group-16293-e8dd55004740db77cac5472155239867.jpg
END:VEVENT
BEGIN:VEVENT
DTSTART;TZID=-04:00:20260603T190000
DTEND;TZID=-04:00:20260603T190000
DTSTAMP:20260420T102312
CREATED:20260419T063924Z
LAST-MODIFIED:20260420T133709Z
UID:10002002-1780513200-1780513200@firstpresbyterian.net
SUMMARY:Al-anon
DESCRIPTION:
URL:https://firstpresbyterian.net/event/al-anon-9/
LOCATION:21 Firelands Blvd.\, 21 Firelands Blvd.\, Norwalk\, Ohio 44857\, Norwalk\, 44857
ATTACH;FMTTYPE=image/jpeg:https://firstpresbyterian.net/wp-content/uploads/cp-sync/events/al-anon-16295-47f89e709cea67c1546cd620f52e27d0.jpg
END:VEVENT
BEGIN:VEVENT
DTSTART;TZID=-04:00:20260604T100000
DTEND;TZID=-04:00:20260604T100000
DTSTAMP:20260420T102312
CREATED:20260420T063905Z
LAST-MODIFIED:20260420T133711Z
UID:10002003-1780567200-1780567200@firstpresbyterian.net
SUMMARY:PW Morning & Afternoon Circle Together
DESCRIPTION:
URL:https://firstpresbyterian.net/event/pw-morning-afternoon-circle-together-2/
END:VEVENT
BEGIN:VEVENT
DTSTART;TZID=-04:00:20260604T173000
DTEND;TZID=-04:00:20260604T173000
DTSTAMP:20260420T102312
CREATED:20260420T063908Z
LAST-MODIFIED:20260420T133713Z
UID:10002004-1780594200-1780594200@firstpresbyterian.net
SUMMARY:Impact Committee
DESCRIPTION:
URL:https://firstpresbyterian.net/event/impact-committee-3/
LOCATION:21 Firelands Blvd.\, 21 Firelands Blvd.\, Norwalk\, Ohio 44857\, Norwalk\, 44857
END:VEVENT
BEGIN:VEVENT
DTSTART;TZID=-04:00:20260604T173000
DTEND;TZID=-04:00:20260604T173000
DTSTAMP:20260420T102312
CREATED:20260420T063910Z
LAST-MODIFIED:20260420T133714Z
UID:10002005-1780594200-1780594200@firstpresbyterian.net
SUMMARY:Mission Committee Meeting
DESCRIPTION:
URL:https://firstpresbyterian.net/event/mission-committee-meeting-2/
END:VEVENT
END:VCALENDAR