BEGIN:VCALENDAR
VERSION:2.0
PRODID:-//First Presbyterian Church - ECPv6.15.18//NONSGML v1.0//EN
CALSCALE:GREGORIAN
METHOD:PUBLISH
X-ORIGINAL-URL:https://firstpresbyterian.net
X-WR-CALDESC:Events for First Presbyterian Church
REFRESH-INTERVAL;VALUE=DURATION:PT1H
X-Robots-Tag:noindex
X-PUBLISHED-TTL:PT1H
BEGIN:VTIMEZONE
TZID:-04:00
END:VTIMEZONE
BEGIN:VEVENT
DTSTART;TZID=-04:00:20260405T093000
DTEND;TZID=-04:00:20260405T093000
DTSTAMP:20260420T052101
CREATED:20260310T143103Z
LAST-MODIFIED:20260310T143105Z
UID:10001569-1775381400-1775381400@firstpresbyterian.net
SUMMARY:Children's Sunday School
DESCRIPTION:Children’s Sunday School helps kids build a strong foundation of faith through hands on learning\, storytelling\, discussion\, and creative activities. \n \nThis year\, children will explore Old Testament stories and the life of Jesus in the Gospels. Lessons are designed to encourage each child’s personal relationship with Jesus and help them understand what it means to live a Christian life in their everyday world. \n \nEvery Sunday at 9:30 AM\, children meet their teachers and classmates upstairs in the children’s wing above the nursery and library. Each class includes age appropriate Bible teaching\, interactive activities\, and practical ways to live out what they are learning.
URL:https://firstpresbyterian.net/event/childrens-sunday-school-3/
LOCATION:21 Firelands Blvd.\, 21 Firelands Blvd.\, Norwalk\, Ohio 44857\, Norwalk\, 44857
ATTACH;FMTTYPE=image/jpeg:https://firstpresbyterian.net/wp-content/uploads/cp-sync/events/childrens-sunday-school-15533-4c73f824bc0a4836dfb5a6b8b46187b4.jpg
END:VEVENT
BEGIN:VEVENT
DTSTART;TZID=-04:00:20260405T093000
DTEND;TZID=-04:00:20260405T093000
DTSTAMP:20260420T052101
CREATED:20260310T143059Z
LAST-MODIFIED:20260310T143101Z
UID:10001567-1775381400-1775381400@firstpresbyterian.net
SUMMARY:Adult Sunday School
DESCRIPTION:
URL:https://firstpresbyterian.net/event/adult-sunday-school-3/
ATTACH;FMTTYPE=image/jpeg:https://firstpresbyterian.net/wp-content/uploads/cp-sync/events/adult-sunday-school-15530-f366b615807584aff8266503a4ed6b89.jpg
END:VEVENT
BEGIN:VEVENT
DTSTART;TZID=-04:00:20260405T083000
DTEND;TZID=-04:00:20260405T083000
DTSTAMP:20260420T052101
CREATED:20260310T143056Z
LAST-MODIFIED:20260310T143058Z
UID:10001566-1775377800-1775377800@firstpresbyterian.net
SUMMARY:Worship Service
DESCRIPTION:
URL:https://firstpresbyterian.net/event/worship-service-7/
ATTACH;FMTTYPE=image/jpeg:https://firstpresbyterian.net/wp-content/uploads/cp-sync/events/worship-service-15527-1a813e4dc80b814b1f5b3ae7b6795bc9.jpg
END:VEVENT
END:VCALENDAR