BEGIN:VCALENDAR
VERSION:2.0
PRODID:-//First Presbyterian Church - ECPv6.15.20//NONSGML v1.0//EN
CALSCALE:GREGORIAN
METHOD:PUBLISH
X-WR-CALNAME:First Presbyterian Church
X-ORIGINAL-URL:https://firstpresbyterian.net
X-WR-CALDESC:Events for First Presbyterian Church
REFRESH-INTERVAL;VALUE=DURATION:PT1H
X-Robots-Tag:noindex
X-PUBLISHED-TTL:PT1H
BEGIN:VTIMEZONE
TZID:-04:00
END:VTIMEZONE
BEGIN:VEVENT
DTSTART;TZID=-04:00:20260511T180000
DTEND;TZID=-04:00:20260511T180000
DTSTAMP:20260424T202418
CREATED:20260327T064028Z
LAST-MODIFIED:20260327T064029Z
UID:10001888-1778522400-1778522400@firstpresbyterian.net
SUMMARY:Marotta Small Group
DESCRIPTION:
URL:https://firstpresbyterian.net/event/marotta-small-group-2/
END:VEVENT
BEGIN:VEVENT
DTSTART;TZID=-04:00:20260511T180000
DTEND;TZID=-04:00:20260511T180000
DTSTAMP:20260424T202418
CREATED:20260327T064029Z
LAST-MODIFIED:20260424T233558Z
UID:10001889-1778522400-1778522400@firstpresbyterian.net
SUMMARY:Marotta Small Group
DESCRIPTION:
URL:https://firstpresbyterian.net/event/marotta-small-group-13/
END:VEVENT
BEGIN:VEVENT
DTSTART;TZID=-04:00:20260512T100000
DTEND;TZID=-04:00:20260512T100000
DTSTAMP:20260424T202418
CREATED:20260328T063914Z
LAST-MODIFIED:20260328T063915Z
UID:10001890-1778580000-1778580000@firstpresbyterian.net
SUMMARY:AA Meeting
DESCRIPTION:
URL:https://firstpresbyterian.net/event/aa-meeting-10/
ATTACH;FMTTYPE=image/jpeg:https://firstpresbyterian.net/wp-content/uploads/cp-sync/events/aa-meeting-16068-6d8f83f23731ab1d163b3cfff73db219.jpg
END:VEVENT
BEGIN:VEVENT
DTSTART;TZID=-04:00:20260512T100000
DTEND;TZID=-04:00:20260512T100000
DTSTAMP:20260424T202418
CREATED:20260328T063919Z
LAST-MODIFIED:20260328T063920Z
UID:10001893-1778580000-1778580000@firstpresbyterian.net
SUMMARY:AA Meeting
DESCRIPTION:
URL:https://firstpresbyterian.net/event/aa-meeting-11/
ATTACH;FMTTYPE=image/jpeg:https://firstpresbyterian.net/wp-content/uploads/cp-sync/events/aa-meeting-16072-6d8f83f23731ab1d163b3cfff73db219.jpg
END:VEVENT
BEGIN:VEVENT
DTSTART;TZID=-04:00:20260512T100000
DTEND;TZID=-04:00:20260512T100000
DTSTAMP:20260424T202418
CREATED:20260328T063919Z
LAST-MODIFIED:20260424T233559Z
UID:10001894-1778580000-1778580000@firstpresbyterian.net
SUMMARY:AA Meeting
DESCRIPTION:
URL:https://firstpresbyterian.net/event/aa-meeting-55/
ATTACH;FMTTYPE=image/jpeg:https://firstpresbyterian.net/wp-content/uploads/cp-sync/events/aa-meeting-16073-6d8f83f23731ab1d163b3cfff73db219.jpg
END:VEVENT
BEGIN:VEVENT
DTSTART;TZID=-04:00:20260512T173000
DTEND;TZID=-04:00:20260512T173000
DTSTAMP:20260424T202418
CREATED:20260328T063916Z
LAST-MODIFIED:20260328T063917Z
UID:10001891-1778607000-1778607000@firstpresbyterian.net
SUMMARY:Building & Grounds
DESCRIPTION:
URL:https://firstpresbyterian.net/event/building-grounds-4/
LOCATION:21 Firelands Blvd.\, 21 Firelands Blvd.\, Norwalk\, Ohio 44857\, Norwalk\, 44857
END:VEVENT
BEGIN:VEVENT
DTSTART;TZID=-04:00:20260512T173000
DTEND;TZID=-04:00:20260512T173000
DTSTAMP:20260424T202418
CREATED:20260328T063922Z
LAST-MODIFIED:20260424T233601Z
UID:10001897-1778607000-1778607000@firstpresbyterian.net
SUMMARY:Building & Grounds
DESCRIPTION:
URL:https://firstpresbyterian.net/event/building-grounds-5/
LOCATION:21 Firelands Blvd.\, 21 Firelands Blvd.\, Norwalk\, Ohio 44857\, Norwalk\, 44857
END:VEVENT
BEGIN:VEVENT
DTSTART;TZID=-04:00:20260512T180000
DTEND;TZID=-04:00:20260512T180000
DTSTAMP:20260424T202418
CREATED:20260328T063918Z
LAST-MODIFIED:20260328T063920Z
UID:10001892-1778608800-1778608800@firstpresbyterian.net
SUMMARY:Fellowship Committee
DESCRIPTION:
URL:https://firstpresbyterian.net/event/fellowship-committee/
LOCATION:21 Firelands Blvd.\, 21 Firelands Blvd.\, Norwalk\, Ohio 44857\, Norwalk\, 44857
ATTACH;FMTTYPE=image/jpeg:https://firstpresbyterian.net/wp-content/uploads/cp-sync/events/fellowship-committee-16071-7653c85c0ae038135c1cadbf979a3b26.jpg
END:VEVENT
BEGIN:VEVENT
DTSTART;TZID=-04:00:20260512T180000
DTEND;TZID=-04:00:20260512T180000
DTSTAMP:20260424T202418
CREATED:20260328T063923Z
LAST-MODIFIED:20260424T233603Z
UID:10001900-1778608800-1778608800@firstpresbyterian.net
SUMMARY:Fellowship Committee
DESCRIPTION:
URL:https://firstpresbyterian.net/event/fellowship-committee-5/
LOCATION:21 Firelands Blvd.\, 21 Firelands Blvd.\, Norwalk\, Ohio 44857\, Norwalk\, 44857
ATTACH;FMTTYPE=image/jpeg:https://firstpresbyterian.net/wp-content/uploads/cp-sync/events/fellowship-committee-16084-7653c85c0ae038135c1cadbf979a3b26.jpg
END:VEVENT
BEGIN:VEVENT
DTSTART;TZID=-04:00:20260512T183000
DTEND;TZID=-04:00:20260512T183000
DTSTAMP:20260424T202418
CREATED:20260328T063921Z
LAST-MODIFIED:20260328T063922Z
UID:10001895-1778610600-1778610600@firstpresbyterian.net
SUMMARY:Young Adult Small Group
DESCRIPTION:
URL:https://firstpresbyterian.net/event/young-adult-small-group-3/
ATTACH;FMTTYPE=image/jpeg:https://firstpresbyterian.net/wp-content/uploads/cp-sync/events/young-adult-small-group-16077-d7e2d5ce3afe551c2a209debf28409cd.jpg
END:VEVENT
BEGIN:VEVENT
DTSTART;TZID=-04:00:20260512T183000
DTEND;TZID=-04:00:20260512T183000
DTSTAMP:20260424T202418
CREATED:20260328T063921Z
LAST-MODIFIED:20260328T063922Z
UID:10001896-1778610600-1778610600@firstpresbyterian.net
SUMMARY:Young Adult Small Group
DESCRIPTION:
URL:https://firstpresbyterian.net/event/young-adult-small-group-17/
ATTACH;FMTTYPE=image/jpeg:https://firstpresbyterian.net/wp-content/uploads/cp-sync/events/young-adult-small-group-16078-d7e2d5ce3afe551c2a209debf28409cd.jpg
END:VEVENT
BEGIN:VEVENT
DTSTART;TZID=-04:00:20260512T183000
DTEND;TZID=-04:00:20260512T183000
DTSTAMP:20260424T202418
CREATED:20260328T063927Z
LAST-MODIFIED:20260424T233606Z
UID:10001901-1778610600-1778610600@firstpresbyterian.net
SUMMARY:Young Adult Small Group
DESCRIPTION:
URL:https://firstpresbyterian.net/event/young-adult-small-group-18/
ATTACH;FMTTYPE=image/jpeg:https://firstpresbyterian.net/wp-content/uploads/cp-sync/events/young-adult-small-group-16086-d7e2d5ce3afe551c2a209debf28409cd.jpg
END:VEVENT
BEGIN:VEVENT
DTSTART;TZID=-04:00:20260512T190000
DTEND;TZID=-04:00:20260512T190000
DTSTAMP:20260424T202418
CREATED:20260328T063923Z
LAST-MODIFIED:20260328T063924Z
UID:10001899-1778612400-1778612400@firstpresbyterian.net
SUMMARY:Mary Tester Small Group
DESCRIPTION:
URL:https://firstpresbyterian.net/event/mary-tester-small-group-3/
END:VEVENT
BEGIN:VEVENT
DTSTART;TZID=-04:00:20260512T190000
DTEND;TZID=-04:00:20260512T190000
DTSTAMP:20260424T202418
CREATED:20260328T063923Z
LAST-MODIFIED:20260328T063923Z
UID:10001898-1778612400-1778612400@firstpresbyterian.net
SUMMARY:Mary Tester Small Group
DESCRIPTION:
URL:https://firstpresbyterian.net/event/mary-tester-small-group-18/
END:VEVENT
BEGIN:VEVENT
DTSTART;TZID=-04:00:20260512T190000
DTEND;TZID=-04:00:20260512T190000
DTSTAMP:20260424T202418
CREATED:20260328T063928Z
LAST-MODIFIED:20260424T233608Z
UID:10001902-1778612400-1778612400@firstpresbyterian.net
SUMMARY:Mary Tester Small Group
DESCRIPTION:
URL:https://firstpresbyterian.net/event/mary-tester-small-group-19/
END:VEVENT
BEGIN:VEVENT
DTSTART;TZID=-04:00:20260513T070000
DTEND;TZID=-04:00:20260513T070000
DTSTAMP:20260424T202418
CREATED:20260329T064414Z
LAST-MODIFIED:20260424T233610Z
UID:10001903-1778655600-1778655600@firstpresbyterian.net
SUMMARY:Men's AM Group
DESCRIPTION:Wednesday mornings men’s small group meeting in the Good Room (112-114)
URL:https://firstpresbyterian.net/event/mens-am-group-3/
ATTACH;FMTTYPE=image/jpeg:https://firstpresbyterian.net/wp-content/uploads/cp-sync/events/mens-am-group-16089-14ca32c98dfc1a1781409a6d64b11edb.jpg
END:VEVENT
BEGIN:VEVENT
DTSTART;TZID=-04:00:20260513T120000
DTEND;TZID=-04:00:20260513T120000
DTSTAMP:20260424T202418
CREATED:20260329T064417Z
LAST-MODIFIED:20260424T233611Z
UID:10001904-1778673600-1778673600@firstpresbyterian.net
SUMMARY:Stewardship Meeting
DESCRIPTION:
URL:https://firstpresbyterian.net/event/stewardship-meeting/
LOCATION:21 Firelands Blvd.\, 21 Firelands Blvd.\, Norwalk\, Ohio 44857\, Norwalk\, 44857
ATTACH;FMTTYPE=image/jpeg:https://firstpresbyterian.net/wp-content/uploads/cp-sync/events/stewardship-meeting-16091-a9394f8a1f2247e8a5acefb5ca2201ad.jpg
END:VEVENT
BEGIN:VEVENT
DTSTART;TZID=-04:00:20260513T190000
DTEND;TZID=-04:00:20260513T190000
DTSTAMP:20260424T202418
CREATED:20260329T064420Z
LAST-MODIFIED:20260424T233612Z
UID:10001905-1778698800-1778698800@firstpresbyterian.net
SUMMARY:Al-anon
DESCRIPTION:
URL:https://firstpresbyterian.net/event/al-anon-3/
LOCATION:21 Firelands Blvd.\, 21 Firelands Blvd.\, Norwalk\, Ohio 44857\, Norwalk\, 44857
ATTACH;FMTTYPE=image/jpeg:https://firstpresbyterian.net/wp-content/uploads/cp-sync/events/al-anon-16093-8283872afc25b74f4ea7ee698bfeeec4.jpg
END:VEVENT
BEGIN:VEVENT
DTSTART;TZID=-04:00:20260514T063000
DTEND;TZID=-04:00:20260514T063000
DTSTAMP:20260424T202418
CREATED:20260423T163622Z
LAST-MODIFIED:20260424T233614Z
UID:10002019-1778740200-1778740200@firstpresbyterian.net
SUMMARY:Canfield Small Group
DESCRIPTION:
URL:https://firstpresbyterian.net/event/canfield-small-group-4/
END:VEVENT
BEGIN:VEVENT
DTSTART;TZID=-04:00:20260514T120000
DTEND;TZID=-04:00:20260514T120000
DTSTAMP:20260424T202418
CREATED:20260330T064007Z
LAST-MODIFIED:20260424T233615Z
UID:10001906-1778760000-1778760000@firstpresbyterian.net
SUMMARY:Men's Small Group
DESCRIPTION:
URL:https://firstpresbyterian.net/event/mens-small-group-3/
ATTACH;FMTTYPE=image/jpeg:https://firstpresbyterian.net/wp-content/uploads/cp-sync/events/mens-small-group-16107-6916b754b3ec1209738719e25daf5406.jpg
END:VEVENT
BEGIN:VEVENT
DTSTART;TZID=-04:00:20260514T120000
DTEND;TZID=-04:00:20260514T120000
DTSTAMP:20260424T202418
CREATED:20260330T064008Z
LAST-MODIFIED:20260330T064009Z
UID:10001907-1778760000-1778760000@firstpresbyterian.net
SUMMARY:Men's Small Group
DESCRIPTION:
URL:https://firstpresbyterian.net/event/mens-small-group-14/
ATTACH;FMTTYPE=image/jpeg:https://firstpresbyterian.net/wp-content/uploads/cp-sync/events/mens-small-group-16108-6916b754b3ec1209738719e25daf5406.jpg
END:VEVENT
BEGIN:VEVENT
DTSTART;TZID=-04:00:20260514T160000
DTEND;TZID=-04:00:20260514T160000
DTSTAMP:20260424T202418
CREATED:20260330T064010Z
LAST-MODIFIED:20260330T064010Z
UID:10001909-1778774400-1778774400@firstpresbyterian.net
SUMMARY:Stein Hospice Grief Group
DESCRIPTION:HEALING HEARTS \nThis monthly grief support group provides adults who have experienced a loss with a safe and supportive environment to share their feelings and connect with others who understand. Each session offers an opportunity to talk openly\, listen to others\, and learn healthy ways to cope with grief. The group is guided by trained facilitators who encourage conversation\, provide resources\, and help participants explore the many emotions that follow a loss. Whether the loss is recent or occurred years ago\, adults are welcome to join at any time. This ongoing program meets once a month and is free of charge. \n \nTo register:  \n\nKathy Failor \n419.625.5269 \nkfailor@steinhospice.org
URL:https://firstpresbyterian.net/event/stein-hospice-grief-group/
END:VEVENT
BEGIN:VEVENT
DTSTART;TZID=-04:00:20260514T160000
DTEND;TZID=-04:00:20260514T160000
DTSTAMP:20260424T202418
CREATED:20260330T064010Z
LAST-MODIFIED:20260424T233616Z
UID:10001908-1778774400-1778774400@firstpresbyterian.net
SUMMARY:Stein Hospice Grief Group
DESCRIPTION:HEALING HEARTS \nThis monthly grief support group provides adults who have experienced a loss with a safe and supportive environment to share their feelings and connect with others who understand. Each session offers an opportunity to talk openly\, listen to others\, and learn healthy ways to cope with grief. The group is guided by trained facilitators who encourage conversation\, provide resources\, and help participants explore the many emotions that follow a loss. Whether the loss is recent or occurred years ago\, adults are welcome to join at any time. This ongoing program meets once a month and is free of charge. \n \nTo register:  \n\nKathy Failor \n419.625.5269 \nkfailor@steinhospice.org
URL:https://firstpresbyterian.net/event/stein-hospice-grief-group-4/
ATTACH;FMTTYPE=image/jpeg:https://firstpresbyterian.net/wp-content/uploads/cp-sync/events/stein-hospice-grief-group-16112-fc5f3fd0795fdca8e025fb86b42960ad.jpg
END:VEVENT
BEGIN:VEVENT
DTSTART;TZID=-04:00:20260514T173000
DTEND;TZID=-04:00:20260514T173000
DTSTAMP:20260424T202418
CREATED:20260415T193626Z
LAST-MODIFIED:20260424T233618Z
UID:10001991-1778779800-1778779800@firstpresbyterian.net
SUMMARY:Impact Committee
DESCRIPTION:
URL:https://firstpresbyterian.net/event/impact-committee-2/
LOCATION:21 Firelands Blvd.\, 21 Firelands Blvd.\, Norwalk\, Ohio 44857\, Norwalk\, 44857
END:VEVENT
BEGIN:VEVENT
DTSTART;TZID=-04:00:20260515T100000
DTEND;TZID=-04:00:20260515T100000
DTSTAMP:20260424T202418
CREATED:20260403T153809Z
LAST-MODIFIED:20260424T233620Z
UID:10001911-1778839200-1778839200@firstpresbyterian.net
SUMMARY:AA Meeting
DESCRIPTION:
URL:https://firstpresbyterian.net/event/aa-meeting-12/
ATTACH;FMTTYPE=image/jpeg:https://firstpresbyterian.net/wp-content/uploads/cp-sync/events/aa-meeting-16122-e2c685b5da6cd4c75623464e73aa6c7c.jpg
END:VEVENT
BEGIN:VEVENT
DTSTART;TZID=-04:00:20260515T190000
DTEND;TZID=-04:00:20260515T190000
DTSTAMP:20260424T202418
CREATED:20260403T153812Z
LAST-MODIFIED:20260424T233621Z
UID:10001913-1778871600-1778871600@firstpresbyterian.net
SUMMARY:AA Meeting
DESCRIPTION:
URL:https://firstpresbyterian.net/event/aa-meeting-13/
ATTACH;FMTTYPE=image/jpeg:https://firstpresbyterian.net/wp-content/uploads/cp-sync/events/aa-meeting-16125-dc0adaae1fe7ba3c44b550e6a7c4dfe2.jpg
END:VEVENT
BEGIN:VEVENT
DTSTART;TZID=-04:00:20260516T190000
DTEND;TZID=-04:00:20260516T190000
DTSTAMP:20260424T202418
CREATED:20260403T153815Z
LAST-MODIFIED:20260424T233622Z
UID:10001915-1778958000-1778958000@firstpresbyterian.net
SUMMARY:AA Meeting
DESCRIPTION:
URL:https://firstpresbyterian.net/event/aa-meeting-56/
ATTACH;FMTTYPE=image/jpeg:https://firstpresbyterian.net/wp-content/uploads/cp-sync/events/aa-meeting-16128-5d4d382af2347c31983d5940a076d516.jpg
END:VEVENT
BEGIN:VEVENT
DTSTART;TZID=-04:00:20260517T000000
DTEND;TZID=-04:00:20260517T000000
DTSTAMP:20260424T202418
CREATED:20260403T153817Z
LAST-MODIFIED:20260424T233623Z
UID:10001916-1778976000-1778976000@firstpresbyterian.net
SUMMARY:BLESSING BOX SUNDAY
DESCRIPTION:
URL:https://firstpresbyterian.net/event/blessing-box-sunday/
END:VEVENT
BEGIN:VEVENT
DTSTART;TZID=-04:00:20260517T000000
DTEND;TZID=-04:00:20260517T000000
DTSTAMP:20260424T202418
CREATED:20260403T153819Z
LAST-MODIFIED:20260424T233625Z
UID:10001917-1778976000-1778976000@firstpresbyterian.net
SUMMARY:Internet Worship Service
DESCRIPTION:
URL:https://firstpresbyterian.net/event/internet-worship-service-3/
ATTACH;FMTTYPE=image/jpeg:https://firstpresbyterian.net/wp-content/uploads/cp-sync/events/internet-worship-service-16131-abb6b7c4e57e8510530298b70ae20d77.jpg
END:VEVENT
BEGIN:VEVENT
DTSTART;TZID=-04:00:20260517T083000
DTEND;TZID=-04:00:20260517T083000
DTSTAMP:20260424T202418
CREATED:20260403T153822Z
LAST-MODIFIED:20260424T233626Z
UID:10001919-1779006600-1779006600@firstpresbyterian.net
SUMMARY:Worship Service
DESCRIPTION:
URL:https://firstpresbyterian.net/event/worship-service-5/
ATTACH;FMTTYPE=image/jpeg:https://firstpresbyterian.net/wp-content/uploads/cp-sync/events/worship-service-16134-decc49328a7bdceab5f734ccab0b4c71.jpg
END:VEVENT
END:VCALENDAR