BEGIN:VCALENDAR
VERSION:2.0
PRODID:-//First Presbyterian Church - ECPv6.15.20//NONSGML v1.0//EN
CALSCALE:GREGORIAN
METHOD:PUBLISH
X-WR-CALNAME:First Presbyterian Church
X-ORIGINAL-URL:https://firstpresbyterian.net
X-WR-CALDESC:Events for First Presbyterian Church
REFRESH-INTERVAL;VALUE=DURATION:PT1H
X-Robots-Tag:noindex
X-PUBLISHED-TTL:PT1H
BEGIN:VTIMEZONE
TZID:-04:00
END:VTIMEZONE
BEGIN:VEVENT
DTSTART;TZID=-04:00:20260605T130000
DTEND;TZID=-04:00:20260605T130000
DTSTAMP:20260425T120716
CREATED:20260421T063908Z
LAST-MODIFIED:20260425T153743Z
UID:10002008-1780664400-1780664400@firstpresbyterian.net
SUMMARY:Keen-Agers
DESCRIPTION:
URL:https://firstpresbyterian.net/event/keen-agers/
END:VEVENT
BEGIN:VEVENT
DTSTART;TZID=-04:00:20260605T190000
DTEND;TZID=-04:00:20260605T190000
DTSTAMP:20260425T120716
CREATED:20260421T063909Z
LAST-MODIFIED:20260425T153744Z
UID:10002009-1780686000-1780686000@firstpresbyterian.net
SUMMARY:AA Meeting
DESCRIPTION:
URL:https://firstpresbyterian.net/event/aa-meeting-33/
ATTACH;FMTTYPE=image/jpeg:https://firstpresbyterian.net/wp-content/uploads/cp-sync/events/aa-meeting-16304-96c65fb31b9ed34613a63dc59fdf31cf.jpg
END:VEVENT
BEGIN:VEVENT
DTSTART;TZID=-04:00:20260606T190000
DTEND;TZID=-04:00:20260606T190000
DTSTAMP:20260425T120716
CREATED:20260422T063832Z
LAST-MODIFIED:20260422T063834Z
UID:10002011-1780772400-1780772400@firstpresbyterian.net
SUMMARY:AA Meeting
DESCRIPTION:
URL:https://firstpresbyterian.net/event/aa-meeting-34/
ATTACH;FMTTYPE=image/jpeg:https://firstpresbyterian.net/wp-content/uploads/cp-sync/events/aa-meeting-16307-c07722eb990af9031d7c3260a4c4a8c8.jpg
END:VEVENT
BEGIN:VEVENT
DTSTART;TZID=-04:00:20260606T190000
DTEND;TZID=-04:00:20260606T190000
DTSTAMP:20260425T120716
CREATED:20260422T063834Z
LAST-MODIFIED:20260425T153746Z
UID:10002012-1780772400-1780772400@firstpresbyterian.net
SUMMARY:AA Meeting
DESCRIPTION:
URL:https://firstpresbyterian.net/event/aa-meeting-36/
ATTACH;FMTTYPE=image/jpeg:https://firstpresbyterian.net/wp-content/uploads/cp-sync/events/aa-meeting-16309-c07722eb990af9031d7c3260a4c4a8c8.jpg
END:VEVENT
BEGIN:VEVENT
DTSTART;TZID=-04:00:20260607T000000
DTEND;TZID=-04:00:20260607T000000
DTSTAMP:20260425T120716
CREATED:20260423T063817Z
LAST-MODIFIED:20260425T153747Z
UID:10002013-1780790400-1780790400@firstpresbyterian.net
SUMMARY:COMMUNION / FOOD BANK SUNDAY
DESCRIPTION:
URL:https://firstpresbyterian.net/event/communion-food-bank-sunday/
ATTACH;FMTTYPE=image/jpeg:https://firstpresbyterian.net/wp-content/uploads/cp-sync/events/communion-food-bank-sunday-16311-15834c3b6cce5b453bcf78f85a4cf63c.jpg
END:VEVENT
BEGIN:VEVENT
DTSTART;TZID=-04:00:20260607T000000
DTEND;TZID=-04:00:20260607T000000
DTSTAMP:20260425T120716
CREATED:20260423T063819Z
LAST-MODIFIED:20260425T153748Z
UID:10002014-1780790400-1780790400@firstpresbyterian.net
SUMMARY:Internet Worship Service
DESCRIPTION:
URL:https://firstpresbyterian.net/event/internet-worship-service-8/
ATTACH;FMTTYPE=image/jpeg:https://firstpresbyterian.net/wp-content/uploads/cp-sync/events/internet-worship-service-16313-a7e5e71f7a066253608bf0a079cc312e.jpg
END:VEVENT
BEGIN:VEVENT
DTSTART;TZID=-04:00:20260607T093000
DTEND;TZID=-04:00:20260607T093000
DTSTAMP:20260425T120716
CREATED:20260423T063821Z
LAST-MODIFIED:20260425T153750Z
UID:10002015-1780824600-1780824600@firstpresbyterian.net
SUMMARY:Worship Service
DESCRIPTION:
URL:https://firstpresbyterian.net/event/worship-service-13/
END:VEVENT
BEGIN:VEVENT
DTSTART;TZID=-04:00:20260608T180000
DTEND;TZID=-04:00:20260608T180000
DTSTAMP:20260425T120716
CREATED:20260424T063853Z
LAST-MODIFIED:20260425T153751Z
UID:10002023-1780941600-1780941600@firstpresbyterian.net
SUMMARY:ACT Board Meeting
DESCRIPTION:
URL:https://firstpresbyterian.net/event/act-board-meeting-2/
LOCATION:21 Firelands Blvd.\, 21 Firelands Blvd.\, Norwalk\, Ohio 44857\, Norwalk\, 44857
ATTACH;FMTTYPE=image/jpeg:https://firstpresbyterian.net/wp-content/uploads/cp-sync/events/act-board-meeting-16323-86cc517312ac978a8af44930fc5ddbc3.jpg
END:VEVENT
BEGIN:VEVENT
DTSTART;TZID=-04:00:20260609T100000
DTEND;TZID=-04:00:20260609T100000
DTSTAMP:20260425T120716
CREATED:20260425T063914Z
LAST-MODIFIED:20260425T153753Z
UID:10002024-1780999200-1780999200@firstpresbyterian.net
SUMMARY:AA Meeting
DESCRIPTION:
URL:https://firstpresbyterian.net/event/aa-meeting-38/
ATTACH;FMTTYPE=image/jpeg:https://firstpresbyterian.net/wp-content/uploads/cp-sync/events/aa-meeting-16330-8f7c8c24b37732875ccf578fb8ed77a7.jpg
END:VEVENT
BEGIN:VEVENT
DTSTART;TZID=-04:00:20260609T173000
DTEND;TZID=-04:00:20260609T173000
DTSTAMP:20260425T120716
CREATED:20260425T063917Z
LAST-MODIFIED:20260425T153754Z
UID:10002025-1781026200-1781026200@firstpresbyterian.net
SUMMARY:Building & Grounds
DESCRIPTION:
URL:https://firstpresbyterian.net/event/building-grounds-3/
LOCATION:21 Firelands Blvd.\, 21 Firelands Blvd.\, Norwalk\, Ohio 44857\, Norwalk\, 44857
END:VEVENT
BEGIN:VEVENT
DTSTART;TZID=-04:00:20260609T180000
DTEND;TZID=-04:00:20260609T180000
DTSTAMP:20260425T120716
CREATED:20260425T063919Z
LAST-MODIFIED:20260425T063919Z
UID:10002029-1781028000-1781028000@firstpresbyterian.net
SUMMARY:Fellowship Committee
DESCRIPTION:
URL:https://firstpresbyterian.net/event/fellowship-committee-3/
LOCATION:21 Firelands Blvd.\, 21 Firelands Blvd.\, Norwalk\, Ohio 44857\, Norwalk\, 44857
END:VEVENT
BEGIN:VEVENT
DTSTART;TZID=-04:00:20260609T180000
DTEND;TZID=-04:00:20260609T180000
DTSTAMP:20260425T120716
CREATED:20260425T063919Z
LAST-MODIFIED:20260425T153755Z
UID:10002026-1781028000-1781028000@firstpresbyterian.net
SUMMARY:Fellowship Committee
DESCRIPTION:
URL:https://firstpresbyterian.net/event/fellowship-committee-6/
LOCATION:21 Firelands Blvd.\, 21 Firelands Blvd.\, Norwalk\, Ohio 44857\, Norwalk\, 44857
ATTACH;FMTTYPE=image/jpeg:https://firstpresbyterian.net/wp-content/uploads/cp-sync/events/fellowship-committee-16334-1c263f7ba09803948e11ff5b30119452.jpg
END:VEVENT
BEGIN:VEVENT
DTSTART;TZID=-04:00:20260609T183000
DTEND;TZID=-04:00:20260609T183000
DTSTAMP:20260425T120716
CREATED:20260425T063920Z
LAST-MODIFIED:20260425T063921Z
UID:10002027-1781029800-1781029800@firstpresbyterian.net
SUMMARY:Young Adult Small Group
DESCRIPTION:
URL:https://firstpresbyterian.net/event/young-adult-small-group-9/
ATTACH;FMTTYPE=image/jpeg:https://firstpresbyterian.net/wp-content/uploads/cp-sync/events/young-adult-small-group-16335-5101107bbc2845460a27b01e66152e16.jpg
END:VEVENT
BEGIN:VEVENT
DTSTART;TZID=-04:00:20260609T183000
DTEND;TZID=-04:00:20260609T183000
DTSTAMP:20260425T120716
CREATED:20260425T063921Z
LAST-MODIFIED:20260425T153757Z
UID:10002028-1781029800-1781029800@firstpresbyterian.net
SUMMARY:Young Adult Small Group
DESCRIPTION:
URL:https://firstpresbyterian.net/event/young-adult-small-group-10/
ATTACH;FMTTYPE=image/jpeg:https://firstpresbyterian.net/wp-content/uploads/cp-sync/events/young-adult-small-group-16337-5101107bbc2845460a27b01e66152e16.jpg
END:VEVENT
END:VCALENDAR