BEGIN:VCALENDAR
VERSION:2.0
PRODID:-//First Presbyterian Church - ECPv6.15.20//NONSGML v1.0//EN
CALSCALE:GREGORIAN
METHOD:PUBLISH
X-WR-CALNAME:First Presbyterian Church
X-ORIGINAL-URL:https://firstpresbyterian.net
X-WR-CALDESC:Events for First Presbyterian Church
REFRESH-INTERVAL;VALUE=DURATION:PT1H
X-Robots-Tag:noindex
X-PUBLISHED-TTL:PT1H
BEGIN:VTIMEZONE
TZID:-04:00
END:VTIMEZONE
BEGIN:VEVENT
DTSTART;TZID=-04:00:20260420T090000
DTEND;TZID=-04:00:20260420T090000
DTSTAMP:20260422T041921
CREATED:20260310T143433Z
LAST-MODIFIED:20260310T143434Z
UID:10001717-1776675600-1776675600@firstpresbyterian.net
SUMMARY:Womens Small Group
DESCRIPTION:
URL:https://firstpresbyterian.net/event/womens-small-group-8/
END:VEVENT
BEGIN:VEVENT
DTSTART;TZID=-04:00:20260420T090000
DTEND;TZID=-04:00:20260420T090000
DTSTAMP:20260422T041921
CREATED:20260310T143441Z
LAST-MODIFIED:20260310T143444Z
UID:10001724-1776675600-1776675600@firstpresbyterian.net
SUMMARY:Womens Small Group
DESCRIPTION:
URL:https://firstpresbyterian.net/event/womens-small-group-9/
END:VEVENT
BEGIN:VEVENT
DTSTART;TZID=-04:00:20260420T180000
DTEND;TZID=-04:00:20260420T180000
DTSTAMP:20260422T041921
CREATED:20260310T143436Z
LAST-MODIFIED:20260310T143437Z
UID:10001719-1776708000-1776708000@firstpresbyterian.net
SUMMARY:Marotta Small Group
DESCRIPTION:
URL:https://firstpresbyterian.net/event/marotta-small-group-8/
END:VEVENT
END:VCALENDAR