BEGIN:VCALENDAR
VERSION:2.0
PRODID:-//First Presbyterian Church - ECPv6.15.20//NONSGML v1.0//EN
CALSCALE:GREGORIAN
METHOD:PUBLISH
X-WR-CALNAME:First Presbyterian Church
X-ORIGINAL-URL:https://firstpresbyterian.net
X-WR-CALDESC:Events for First Presbyterian Church
REFRESH-INTERVAL;VALUE=DURATION:PT1H
X-Robots-Tag:noindex
X-PUBLISHED-TTL:PT1H
BEGIN:VTIMEZONE
TZID:-04:00
END:VTIMEZONE
BEGIN:VEVENT
DTSTART;TZID=-04:00:20260604T100000
DTEND;TZID=-04:00:20260604T100000
DTSTAMP:20260420T095557
CREATED:20260420T063905Z
LAST-MODIFIED:20260420T133711Z
UID:16297-1780567200-1780567200@firstpresbyterian.net
SUMMARY:PW Morning & Afternoon Circle Together
DESCRIPTION:
URL:https://firstpresbyterian.net/event/pw-morning-afternoon-circle-together-2/
END:VEVENT
END:VCALENDAR