BEGIN:VCALENDAR
VERSION:2.0
PRODID:-//First Presbyterian Church - ECPv6.15.20//NONSGML v1.0//EN
CALSCALE:GREGORIAN
METHOD:PUBLISH
X-WR-CALNAME:First Presbyterian Church
X-ORIGINAL-URL:https://firstpresbyterian.net
X-WR-CALDESC:Events for First Presbyterian Church
REFRESH-INTERVAL;VALUE=DURATION:PT1H
X-Robots-Tag:noindex
X-PUBLISHED-TTL:PT1H
BEGIN:VTIMEZONE
TZID:-04:00
END:VTIMEZONE
BEGIN:VEVENT
DTSTART;TZID=-04:00:20260510T093000
DTEND;TZID=-04:00:20260510T093000
DTSTAMP:20260423T123321
CREATED:20260421T193528Z
LAST-MODIFIED:20260423T153516Z
UID:16306-1778405400-1778405400@firstpresbyterian.net
SUMMARY:Mother's Day Muffins
DESCRIPTION:
URL:https://firstpresbyterian.net/event/mothers-day-muffins/
END:VEVENT
END:VCALENDAR