BEGIN:VCALENDAR
VERSION:2.0
PRODID:-//First Presbyterian Church - ECPv6.15.18//NONSGML v1.0//EN
CALSCALE:GREGORIAN
METHOD:PUBLISH
X-WR-CALNAME:First Presbyterian Church
X-ORIGINAL-URL:https://firstpresbyterian.net
X-WR-CALDESC:Events for First Presbyterian Church
REFRESH-INTERVAL;VALUE=DURATION:PT1H
X-Robots-Tag:noindex
X-PUBLISHED-TTL:PT1H
BEGIN:VTIMEZONE
TZID:-04:00
END:VTIMEZONE
BEGIN:VEVENT
DTSTART;TZID=-04:00:20260508T190000
DTEND;TZID=-04:00:20260508T190000
DTSTAMP:20260419T170833
CREATED:20260324T064129Z
LAST-MODIFIED:20260324T064130Z
UID:16018-1778266800-1778266800@firstpresbyterian.net
SUMMARY:AA Meeting
DESCRIPTION:
URL:https://firstpresbyterian.net/event/aa-meeting-52/
ATTACH;FMTTYPE=image/jpeg:https://firstpresbyterian.net/wp-content/uploads/cp-sync/events/aa-meeting-16018-bcaa60f1d12b652c944528d971551100.jpg
END:VEVENT
END:VCALENDAR